Workbook
Name Orders: #REF!
Name People: #REF!
Name Returns: #REF!
Name Slicer_Country_Region: #N/A
Name Timeline_Ship_Date: #N/A

Sheet Biznes Göstəriciləri(Pivot)
A3: məhsul kateqoriyasına görə satışlar | B3: Sum of Sales | D3: Ən çox satış edən Top 10 şəhər | E3: Sum of Sales | G3: Regionlar üzrə satışlar | H3: Sum of Sales | J3: Müştəri seqmentinə görə satışlar | K3: Sum of Sales | M3: Ən çox satılan 10 məhsul | N3: Sum of Sales | P3: İllərə görə satış məbləği | Q3: Sum of Sales | S3: İllərə görə satış məbləği artım faizi (Başlanğıc 2023) | T3: Sum of Sales
A4: Technology | B4: 842456.96 | D4: New York City | E4: 256368.16 | G4: West | H4: 739879.8 | J4: Consumer | K4: 1174198.7 | M4: Canon imageCLASS 2200 Advanced Copier | N4: 61599.824 | P4: 2026 | Q4: 748376.03 | S4: 2026 | T4: 0.2177322
A5: Furniture | B5: 755651.31 | D5: Los Angeles | E5: 175865.36 | G5: East | H5: 692793.99 | J5: Corporate | K5: 715862.91 | M5: Fellowes PB500 Electric Punch Plastic Comb Binding Machine with Manual Bind | N5: 27453.384 | P5: 2025 | Q5: 614565.36 | S5: 2025 | T5: 0.24380138
A6: Office Supplies | B6: 732021.79 | D6: Seattle | E6: 119550.16 | G6: Central | H6: 505650.63 | J6: Home Office | K6: 440068.43 | M6: Cisco TelePresence System EX90 Videoconferencing Unit | N6: 22638.48 | P6: 2023 | Q6: 494102.49 | S6: 2023 | T6: 0.044423875
A7: Grand Total | B7: 2330130.1 | D7: San Francisco | E7: 112711.85 | G7: South | H7: 391805.63 | J7: Grand Total | K7: 2330130.1 | M7: HON 5400 Series Task Chairs for Big and Tall | N7: 21870.576 | P7: 2024 | Q7: 473086.17 | S7: 2024
D8: Philadelphia | E8: 109077.01 | G8: Grand Total | H8: 2330130.1 | M8: GBC DocuBind TL300 Electric Binding System | N8: 19823.479 | P8: Grand Total | Q8: 2330130.1 | S8: Grand Total
D9: Houston | E9: 64504.76 | M9: GBC Ibimaster 500 Manual ProClick Binding System | N9: 19024.5
D10: Chicago | E10: 48539.541 | M10: Hewlett Packard LaserJet 3310 Copier | N10: 18839.686
D11: San Diego | E11: 47521.029 | M11: HP Designjet T520 Inkjet Large Format Printer - 24" Color | N11: 18374.895
D12: Jacksonville | E12: 44713.183 | M12: GBC DocuBind P400 Electric Binding System | N12: 17965.068
D13: Springfield | E13: 43054.342 | M13: High Speed Automatic Electric Letter Opener | N13: 17030.312
D14: Grand Total | E14: 1021905.4 | M14: Grand Total | N14: 244620.2
A19: məhsul kateqoriyasına görə Profit | B19: Sum of Profit | D19: Ən çox Profit-i olan Top 10 şəhər | E19: Sum of Profit | G19: Regionlar üzrə Profit | H19: Sum of Profit | J19: Müştəri seqmentinə görə Profit | K19: Sum of Profit | M19: Ən çox sifariş sayı olan 10 məhsul | N19: Count of Order ID | P19: İllərə görə profit | Q19: Sum of Profit | S19: İllərə görə profit artım faizi (Başlanğıc 2023) | T19: Sum of Profit
A20: Technology | B20: 147310.81 | D20: New York City | E20: 62036.984 | G20: West | H20: 110815.31 | J20: Consumer | K20: 137357.33 | M20: Staples | N20: 50 | P20: 2026 | Q20: 96734.672 | S20: 2026 | T20: 0.16821417
A21: Office Supplies | B21: 126069.21 | D21: Los Angeles | E21: 30445.663 | G21: East | H21: 95101.242 | J21: Corporate | K21: 94265.663 | M21: Staple envelope | N21: 48 | P21: 2025 | Q21: 82805.598 | S21: 2025 | T21: 0.33460803
A22: Furniture | B22: 19918.705 | D22: Seattle | E22: 29156.568 | G22: South | H22: 46772.872 | J22: Home Office | K22: 61675.728 | M22: Easy-staple paper | N22: 46 | P22: 2024 | Q22: 62044.882 | S22: 2024 | T22: 0.19977958
A23: Grand Total | B23: 293298.72 | D23: San Francisco | E23: 17518.503 | G23: Central | H23: 40609.295 | J23: Grand Total | K23: 293298.72 | M23: KI Adjustable-Height Table | N23: 20 | P23: 2023 | Q23: 51713.567 | S23: 2023
D24: Detroit | E24: 13181.791 | G24: Grand Total | H24: 293298.72 | M24: Avery Non-Stick Binders | N24: 20 | P24: Grand Total | Q24: 293298.72 | S24: Grand Total
D25: Lafayette | E25: 10018.388 | M25: Staples in misc. colors | N25: 19
D26: Jackson | E26: 7581.6828 | M26: Staple remover | N26: 18
D27: Atlanta | E27: 6993.6629 | M27: Storex Dura Pro Binders | N27: 17
D28: Minneapolis | E28: 6824.5846 | M28: Staple-based wall hangings | N28: 16
D29: San Diego | E29: 6377.196 | M29: Logitech 910-002974 M325 Wireless Mouse for Web Scrolling | N29: 15
D30: Grand Total | E30: 190135.02 | M30: Grand Total | N30: 269
P32: İllərə görə sifariş sayı | Q32: Count of Order ID | S32: İllərə görə sifariş sayı artım faizi (Başlanğıc 2023) | T32: Count of Order ID
P33: 2026 | Q33: 3383 | S33: 2026 | T33: 0.28387097
P34: 2025 | Q34: 2635 | S34: 2025 | T34: 0.23592871
P35: 2024 | Q35: 2132 | S35: 2024 | T35: 0.038986355
P36: 2023 | Q36: 2052 | S36: 2023
P37: Grand Total | Q37: 10202 | S37: Grand Total

Sheet Superstore Sales Dashboard
B2: Total Sales | D2: Total Quantity | F2: Average Sales | H2: Total Orders
B3: =SUM(Orders!U:U) -> 2330130.1 | D3: =SUM(Orders!V:V) -> 38680 | F3: =AVERAGE(Orders!U:U) -> 228.39934 | H3: =COUNTA(Orders!B:B) -> 10203

Sheet Orders
A1: Row ID | B1: Order ID | C1: Order Date | D1: Ship Date | E1: Ship Mode | F1: Customer ID | G1: Customer Name | H1: Segment | I1: Country/Region | J1: City | K1: State/Province | L1: Postal Code | M1: Region | N1: Regional Manager | O1: Product ID | P1: Supplier | Q1: Target Margin | R1: Category | S1: Sub-Category | T1: Product Name | U1: Sales | V1: Quantity | W1: Discount | X1: Profit
A2: 1 | B2: US-2023-103800 | C2: 44929 | D2: 44933 | E2: Standard Class | F2: DP-13000 | G2: Darren Powers | H2: Consumer | I2: United States | J2: Houston | K2: Texas | L2: 77095 | M2: Central | N2: =_xlfn.XLOOKUP($M:$M,People!$B:$B,People!A:A) -> Roxanne Rodriguez | O2: OFF-PA-10000174 | P2: =VLOOKUP(O2,Products!$A:$E,3,FALSE) -> Staples | Q2: =INDEX(Products!$E:$E,MATCH(O2,Products!$A:$A,0)) -> 0.25 | R2: Office Supplies | S2: Paper | T2: Message Book, Wirebound, Four 5 1/2" X 4" Forms/Pg., 200 Dupl. Sets/Book | U2: 16.448 | V2: 2 | W2: 0.2 | X2: 5.5512
A3: 2 | B3: US-2023-112326 | C3: 44930 | D3: 44934 | E3: Standard Class | F3: PO-19195 | G3: Phillina Ober | H3: Home Office | I3: United States | J3: Naperville | K3: Illinois | L3: 60540 | M3: Central | N3: =_xlfn.XLOOKUP($M:$M,People!$B:$B,People!A:A) -> Roxanne Rodriguez | O3: OFF-BI-10004094 | P3: =VLOOKUP(O3,Products!$A:$E,3,FALSE) -> Office Depot | Q3: =INDEX(Products!$E:$E,MATCH(O3,Products!$A:$A,0)) -> 0.26 | R3: Office Supplies | S3: Binders | T3: GBC Standard Plastic Binding Systems Combs | U3: 3.54 | V3: 2 | W3: 0.8 | X3: -5.487
A4: 3 | B4: US-2023-112326 | C4: 44930 | D4: 44934 | E4: Standard Class | F4: PO-19195 | G4: Phillina Ober | H4: Home Office | I4: United States | J4: Naperville | K4: Illinois | L4: 60540 | M4: Central | N4: =_xlfn.XLOOKUP($M:$M,People!$B:$B,People!A:A) -> Roxanne Rodriguez | O4: OFF-LA-10003223 | P4: =VLOOKUP(O4,Products!$A:$E,3,FALSE) -> HP | Q4: =INDEX(Products!$E:$E,MATCH(O4,Products!$A:$A,0)) -> 0.27 | R4: Office Supplies | S4: Labels | T4: Avery 508 | U4: 11.784 | V4: 3 | W4: 0.2 | X4: 4.2717
A5: 4 | B5: US-2023-112326 | C5: 44930 | D5: 44934 | E5: Standard Class | F5: PO-19195 | G5: Phillina Ober | H5: Home Office | I5: United States | J5: Naperville | K5: Illinois | L5: 60540 | M5: Central | N5: =_xlfn.XLOOKUP($M:$M,People!$B:$B,People!A:A) -> Roxanne Rodriguez | O5: OFF-ST-10002743 | P5: =VLOOKUP(O5,Products!$A:$E,3,FALSE) -> Canon | Q5: =INDEX(Products!$E:$E,MATCH(O5,Products!$A:$A,0)) -> 0.28 | R5: Office Supplies | S5: Storage | T5: SAFCO Boltless Steel Shelving | U5: 272.736 | V5: 3 | W5: 0.2 | X5: -64.7748
A6: 5 | B6: US-2023-141817 | C6: 44931 | D6: 44938 | E6: Standard Class | F6: MB-18085 | G6: Mick Brown | H6: Consumer | I6: United States | J6: Philadelphia | K6: Pennsylvania | L6: 19143 | M6: East | N6: =_xlfn.XLOOKUP($M:$M,People!$B:$B,People!A:A) -> Chuck Magee | O6: OFF-AR-10003478 | P6: =VLOOKUP(O6,Products!$A:$E,3,FALSE) -> Logitech | Q6: =INDEX(Products!$E:$E,MATCH(O6,Products!$A:$A,0)) -> 0.29 | R6: Office Supplies | S6: Art | T6: Avery Hi-Liter EverBold Pen Style Fluorescent Highlighters, 4/Pack | U6: 19.536 | V6: 3 | W6: 0.2 | X6: 4.884
A7: 6 | B7: US-2023-167199 | C7: 44932 | D7: 44936 | E7: Standard Class | F7: ME-17320 | G7: Maria Etezadi | H7: Home Office | I7: United States | J7: Henderson | K7: Kentucky | L7: 42420 | M7: South | N7: =_xlfn.XLOOKUP($M:$M,People!$B:$B,People!A:A) -> Fred Suzuki | O7: FUR-CH-10004063 | P7: =VLOOKUP(O7,Products!$A:$E,3,FALSE) -> 3M | Q7: =INDEX(Products!$E:$E,MATCH(O7,Products!$A:$A,0)) -> 0.3 | R7: Furniture | S7: Chairs | T7: Global Deluxe High-Back Manager's Chair | U7: 2573.82 | V7: 9 | W7: 0 | X7: 746.4078
A8: 7 | B8: US-2023-167199 | C8: 44932 | D8: 44936 | E8: Standard Class | F8: ME-17320 | G8: Maria Etezadi | H8: Home Office | I8: United States | J8: Henderson | K8: Kentucky | L8: 42420 | M8: South | N8: =_xlfn.XLOOKUP($M:$M,People!$B:$B,People!A:A) -> Fred Suzuki | O8: OFF-AR-10001662 | P8: =VLOOKUP(O8,Products!$A:$E,3,FALSE) -> Avery | Q8: =INDEX(Products!$E:$E,MATCH(O8,Products!$A:$A,0)) -> 0.31 | R8: Office Supplies | S8: Art | T8: Rogers Handheld Barrel Pencil Sharpener | U8: 5.48 | V8: 2 | W8: 0 | X8: 1.4796
A9: 8 | B9: US-2023-106054 | C9: 44932 | D9: 44933 | E9: First Class | F9: JO-15145 | G9: Jack O'Briant | H9: Corporate | I9: United States | J9: Athens | K9: Georgia | L9: 30605 | M9: South | N9: =_xlfn.XLOOKUP($M:$M,People!$B:$B,People!A:A) -> Fred Suzuki | O9: OFF-AR-10002399 | P9: =VLOOKUP(O9,Products!$A:$E,3,FALSE) -> IKEA | Q9: =INDEX(Products!$E:$E,MATCH(O9,Products!$A:$A,0)) -> 0.32 | R9: Office Supplies | S9: Art | T9: Dixon Prang Watercolor Pencils, 10-Color Set with Brush | U9: 12.78 | V9: 3 | W9: 0 | X9: 5.2398
A10: 9 | B10: US-2023-167199 | C10: 44932 | D10: 44936 | E10: Standard Class | F10: ME-17320 | G10: Maria Etezadi | H10: Home Office | I10: United States | J10: Henderson | K10: Kentucky | L10: 42420 | M10: South | N10: =_xlfn.XLOOKUP($M:$M,People!$B:$B,People!A:A) -> Fred Suzuki | O10: OFF-BI-10004632 | P10: =VLOOKUP(O10,Products!$A:$E,3,FALSE) -> Samsung | Q10: =INDEX(Products!$E:$E,MATCH(O10,Products!$A:$A,0)) -> 0.33 | R10: Office Supplies | S10: Binders | T10: Ibico Hi-Tech Manual Binding System | U10: 609.98 | V10: 2 | W10: 0 | X10: 274.491
A11: 10 | B11: US-2023-167199 | C11: 44932 | D11: 44936 | E11: Standard Class | F11: ME-17320 | G11: Maria Etezadi | H11: Home Office | I11: United States | J11: Henderson | K11: Kentucky | L11: 42420 | M11: South | N11: =_xlfn.XLOOKUP($M:$M,People!$B:$B,People!A:A) -> Fred Suzuki | O11: OFF-FA-10001883 | P11: =VLOOKUP(O11,Products!$A:$E,3,FALSE) -> Dell | Q11: =INDEX(Products!$E:$E,MATCH(O11,Products!$A:$A,0)) -> 0.34 | R11: Office Supplies | S11: Fasteners | T11: Alliance Super-Size Bands, Assorted Sizes | U11: 31.12 | V11: 4 | W11: 0 | X11: 0.3112
A12: 11 | B12: US-2023-167199 | C12: 44932 | D12: 44936 | E12: Standard Class | F12: ME-17320 | G12: Maria Etezadi | H12: Home Office | I12: United States | J12: Henderson | K12: Kentucky | L12: 42420 | M12: South | N12: =_xlfn.XLOOKUP($M:$M,People!$B:$B,People!A:A) -> Fred Suzuki | O12: OFF-PA-10000955 | P12: =VLOOKUP(O12,Products!$A:$E,3,FALSE) -> Staples | Q12: =INDEX(Products!$E:$E,MATCH(O12,Products!$A:$A,0)) -> 0.35 | R12: Office Supplies | S12: Paper | T12: Southworth 25% Cotton Granite Paper & Envelopes | U12: 6.54 | V12: 1 | W12: 0 | X12: 3.0084
A13: 12 | B13: US-2023-130813 | C13: 44932 | D13: 44934 | E13: Second Class | F13: LS-17230 | G13: Lycoris Saunders | H13: Consumer | I13: United States | J13: Los Angeles | K13: California | L13: 90049 | M13: West | N13: =_xlfn.XLOOKUP($M:$M,People!$B:$B,People!A:A) -> Sadie Pawthorne | O13: OFF-PA-10002005 | P13: =VLOOKUP(O13,Products!$A:$E,3,FALSE) -> Office Depot | Q13: =INDEX(Products!$E:$E,MATCH(O13,Products!$A:$A,0)) -> 0.36 | R13: Office Supplies | S13: Paper | T13: Xerox 225 | U13: 19.44 | V13: 3 | W13: 0 | X13: 9.3312
... A62: 61 | B62: US-2023-110422 | C62: 44947 | D62: 44949 | E62: Second Class | F62: TB-21400 | G62: Tom Boeckenhauer | H62: Consumer | I62: United States | J62: Miami | K62: Florida | L62: 33180 | M62: South | N62: =_xlfn.XLOOKUP($M:$M,People!$B:$B,People!A:A) -> Fred Suzuki | O62: FUR-FU-10001889 | P62: =VLOOKUP(O62,Products!$A:$E,3,FALSE) -> Dell | Q62: =INDEX(Products!$E:$E,MATCH(O62,Products!$A:$A,0)) -> 0.36 | R62: Furniture | S62: Furnishings | T62: Ultra Door Pull Handle | U62: 25.248 | V62: 3 | W62: 0.2 | X62: 4.1028
A63: 62 | B63: CA-2023-115238 | C63: 44947 | D63: 44950 | E63: Standard Class | F63: JW-15220 | G63: Jane Waco | H63: Corporate | I63: Canada | J63: Toronto | K63: Ontario | L63: M7A | M63: East | N63: =_xlfn.XLOOKUP($M:$M,People!$B:$B,People!A:A) -> Chuck Magee | O63: FUR-FU-10001025 | P63: =VLOOKUP(O63,Products!$A:$E,3,FALSE) -> Staples | Q63: =INDEX(Products!$E:$E,MATCH(O63,Products!$A:$A,0)) -> 0.37 | R63: Furniture | S63: Furnishings | T63: Eldon Imàge Series Desk Accessories, Clear | U63: 24.3 | V63: 5 | W63: 0 | X63: 10.45
A64: 63 | B64: CA-2023-115238 | C64: 44947 | D64: 44950 | E64: Standard Class | F64: JW-15220 | G64: Jane Waco | H64: Corporate | I64: Canada | J64: Toronto | K64: Ontario | L64: M7A | M64: East | N64: =_xlfn.XLOOKUP($M:$M,People!$B:$B,People!A:A) -> Chuck Magee | O64: FUR-FU-10002445 | P64: =VLOOKUP(O64,Products!$A:$E,3,FALSE) -> Office Depot | Q64: =INDEX(Products!$E:$E,MATCH(O64,Products!$A:$A,0)) -> 0.38 | R64: Furniture | S64: Furnishings | T64: DAX Two-Tone Rosewood/Black Document Frame, Desktop, 5 x 7 | U64: 9.48 | V64: 1 | W64: 0 | X64: 3.79
A65: 64 | B65: CA-2023-115238 | C65: 44947 | D65: 44950 | E65: Standard Class | F65: JW-15220 | G65: Jane Waco | H65: Corporate | I65: Canada | J65: Toronto | K65: Ontario | L65: M7A | M65: East | N65: =_xlfn.XLOOKUP($M:$M,People!$B:$B,People!A:A) -> Chuck Magee | O65: FUR-FU-10002960 | P65: =VLOOKUP(O65,Products!$A:$E,3,FALSE) -> HP | Q65: =INDEX(Products!$E:$E,MATCH(O65,Products!$A:$A,0)) -> 0.39 | R65: Furniture | S65: Furnishings | T65: Eldon 200 Class Desk Accessories, Burgundy | U65: 31.4 | V65: 5 | W65: 0 | X65: 13.19
A66: 65 | B66: CA-2023-115238 | C66: 44947 | D66: 44950 | E66: Standard Class | F66: JW-15220 | G66: Jane Waco | H66: Corporate | I66: Canada | J66: Toronto | K66: Ontario | L66: M7A | M66: East | N66: =_xlfn.XLOOKUP($M:$M,People!$B:$B,People!A:A) -> Chuck Magee | O66: OFF-PA-10002689 | P66: =VLOOKUP(O66,Products!$A:$E,3,FALSE) -> Canon | Q66: =INDEX(Products!$E:$E,MATCH(O66,Products!$A:$A,0)) -> 0.4 | R66: Office Supplies | S66: Paper | T66: Weyerhaeuser First Choice Laser/Copy Paper (20Lb. and 88 Bright) | U66: 6.48 | V66: 1 | W66: 0 | X66: 3.11
A67: 66 | B67: CA-2023-115238 | C67: 44947 | D67: 44950 | E67: Standard Class | F67: JW-15220 | G67: Jane Waco | H67: Corporate | I67: Canada | J67: Toronto | K67: Ontario | L67: M7A | M67: East | N67: =_xlfn.XLOOKUP($M:$M,People!$B:$B,People!A:A) -> Chuck Magee | O67: TEC-PH-10001300 | P67: =VLOOKUP(O67,Products!$A:$E,3,FALSE) -> Logitech | Q67: =INDEX(Products!$E:$E,MATCH(O67,Products!$A:$A,0)) -> 0.25 | R67: Technology | S67: Phones | T67: iKross Bluetooth Portable Keyboard + Cell Phone Stand Holder + Brush for Apple iPhone 5S 5C 5, 4S 4 | U67: 209.5 | V67: 10 | W67: 0 | X67: 58.66
A68: 67 | B68: US-2023-146997 | C68: 44949 | D68: 44953 | E68: Standard Class | F68: SG-20605 | G68: Speros Goranitis | H68: Consumer | I68: United States | J68: Lafayette | K68: Indiana | L68: 47905 | M68: Central | N68: =_xlfn.XLOOKUP($M:$M,People!$B:$B,People!A:A) -> Roxanne Rodriguez | O68: OFF-FA-10003467 | P68: =VLOOKUP(O68,Products!$A:$E,3,FALSE) -> 3M | Q68: =INDEX(Products!$E:$E,MATCH(O68,Products!$A:$A,0)) -> 0.26 | R68: Office Supplies | S68: Fasteners | T68: Alliance Big Bands Rubber Bands, 12/Pack | U68: 5.94 | V68: 3 | W68: 0 | X68: 0
A69: 68 | B69: US-2023-102645 | C69: 44949 | D69: 44954 | E69: Standard Class | F69: IM-15055 | G69: Ionia McGrath | H69: Consumer | I69: United States | J69: Las Vegas | K69: Nevada | L69: 89115 | M69: West | N69: =_xlfn.XLOOKUP($M:$M,People!$B:$B,People!A:A) -> Sadie Pawthorne | O69: OFF-PA-10001804 | P69: =VLOOKUP(O69,Products!$A:$E,3,FALSE) -> Avery | Q69: =INDEX(Products!$E:$E,MATCH(O69,Products!$A:$A,0)) -> 0.27 | R69: Office Supplies | S69: Paper | T69: Xerox 195 | U69: 40.08 | V69: 6 | W69: 0 | X69: 19.2384
A70: 69 | B70: US-2023-167997 | C70: 44952 | D70: 44955 | E70: First Class | F70: CA-11965 | G70: Carol Adams | H70: Corporate | I70: United States | J70: Rapid City | K70: South Dakota | L70: 57701 | M70: Central | N70: =_xlfn.XLOOKUP($M:$M,People!$B:$B,People!A:A) -> Roxanne Rodriguez | O70: FUR-BO-10004409 | P70: =VLOOKUP(O70,Products!$A:$E,3,FALSE) -> IKEA | Q70: =INDEX(Products!$E:$E,MATCH(O70,Products!$A:$A,0)) -> 0.28 | R70: Furniture | S70: Bookcases | T70: Safco Value Mate Series Steel Bookcases, Baked Enamel Finish on Steel, Gray | U70: 141.96 | V70: 2 | W70: 0 | X70: 39.7488
A71: 70 | B71: US-2023-155502 | C71: 44952 | D71: 44957 | E71: Standard Class | F71: SD-20485 | G71: Shirley Daniels | H71: Home Office | I71: United States | J71: Alexandria | K71: Virginia | L71: 22304 | M71: South | N71: =_xlfn.XLOOKUP($M:$M,People!$B:$B,People!A:A) -> Fred Suzuki | O71: FUR-FU-10001847 | P71: =VLOOKUP(O71,Products!$A:$E,3,FALSE) -> Samsung | Q71: =INDEX(Products!$E:$E,MATCH(O71,Products!$A:$A,0)) -> 0.29 | R71: Furniture | S71: Furnishings | T71: Eldon Image Series Black Desk Accessories | U71: 12.42 | V71: 3 | W71: 0 | X71: 4.4712
A72: 71 | B72: US-2023-155502 | C72: 44952 | D72: 44957 | E72: Standard Class | F72: SD-20485 | G72: Shirley Daniels | H72: Home Office | I72: United States | J72: Alexandria | K72: Virginia | L72: 22304 | M72: South | N72: =_xlfn.XLOOKUP($M:$M,People!$B:$B,People!A:A) -> Fred Suzuki | O72: FUR-FU-10004587 | P72: =VLOOKUP(O72,Products!$A:$E,3,FALSE) -> Dell | Q72: =INDEX(Products!$E:$E,MATCH(O72,Products!$A:$A,0)) -> 0.3 | R72: Furniture | S72: Furnishings | T72: GE General Use Halogen Bulbs, 100 Watts, 1 Bulb per Pack | U72: 62.82 | V72: 3 | W72: 0 | X72: 30.7818
A73: 72 | B73: US-2023-167997 | C73: 44952 | D73: 44955 | E73: First Class | F73: CA-11965 | G73: Carol Adams | H73: Corporate | I73: United States | J73: Rapid City | K73: South Dakota | L73: 57701 | M73: Central | N73: =_xlfn.XLOOKUP($M:$M,People!$B:$B,People!A:A) -> Roxanne Rodriguez | O73: OFF-BI-10001758 | P73: =VLOOKUP(O73,Products!$A:$E,3,FALSE) -> Staples | Q73: =INDEX(Products!$E:$E,MATCH(O73,Products!$A:$A,0)) -> 0.31 | R73: Office Supplies | S73: Binders | T73: Wilson Jones 14 Line Acrylic Coated Pressboard Data Binders | U73: 10.68 | V73: 2 | W73: 0 | X73: 5.0196
A74: 73 | B74: US-2023-155502 | C74: 44952 | D74: 44957 | E74: Standard Class | F74: SD-20485 | G74: Shirley Daniels | H74: Home Office | I74: United States | J74: Alexandria | K74: Virginia | L74: 22304 | M74: South | N74: =_xlfn.XLOOKUP($M:$M,People!$B:$B,People!A:A) -> Fred Suzuki | O74: OFF-PA-10000380 | P74: =VLOOKUP(O74,Products!$A:$E,3,FALSE) -> Office Depot | Q74: =INDEX(Products!$E:$E,MATCH(O74,Products!$A:$A,0)) -> 0.32 | R74: Office Supplies | S74: Paper | T74: REDIFORM Incoming/Outgoing Call Register, 11" X 8 1/2", 100 Messages | U74: 16.68 | V74: 2 | W74: 0 | X74: 8.34
A75: 74 | B75: US-2023-155502 | C75: 44952 | D75: 44957 | E75: Standard Class | F75: SD-20485 | G75: Shirley Daniels | H75: Home Office | I75: United States | J75: Alexandria | K75: Virginia | L75: 22304 | M75: South | N75: =_xlfn.XLOOKUP($M:$M,People!$B:$B,People!A:A) -> Fred Suzuki | O75: OFF-PA-10003072 | P75: =VLOOKUP(O75,Products!$A:$E,3,FALSE) -> HP | Q75: =INDEX(Products!$E:$E,MATCH(O75,Products!$A:$A,0)) -> 0.33 | R75: Office Supplies | S75: Paper | T75: Eureka Recycled Copy Paper 8 1/2" x 11", Ream | U75: 19.44 | V75: 3 | W75: 0 | X75: 9.3312
A76: 75 | B76: US-2023-155502 | C76: 44952 | D76: 44957 | E76: Standard Class | F76: SD-20485 | G76: Shirley Daniels | H76: Home Office | I76: United States | J76: Alexandria | K76: Virginia | L76: 22304 | M76: South | N76: =_xlfn.XLOOKUP($M:$M,People!$B:$B,People!A:A) -> Fred Suzuki | O76: OFF-ST-10004337 | P76: =VLOOKUP(O76,Products!$A:$E,3,FALSE) -> Canon | Q76: =INDEX(Products!$E:$E,MATCH(O76,Products!$A:$A,0)) -> 0.34 | R76: Office Supplies | S76: Storage | T76: SAFCO Commercial Wire Shelving, 72h | U76: 489.92 | V76: 8 | W76: 0 | X76: 0
A77: 76 | B77: US-2023-155502 | C77: 44952 | D77: 44957 | E77: Standard Class | F77: SD-20485 | G77: Shirley Daniels | H77: Home Office | I77: United States | J77: Alexandria | K77: Virginia | L77: 22304 | M77: South | N77: =_xlfn.XLOOKUP($M:$M,People!$B:$B,People!A:A) -> Fred Suzuki | O77: TEC-PH-10002103 | P77: =VLOOKUP(O77,Products!$A:$E,3,FALSE) -> Logitech | Q77: =INDEX(Products!$E:$E,MATCH(O77,Products!$A:$A,0)) -> 0.35 | R77: Technology | S77: Phones | T77: Jabra SPEAK 410 | U77: 187.98 | V77: 2 | W77: 0 | X77: 52.6344
A78: 77 | B78: US-2023-155502 | C78: 44952 | D78: 44957 | E78: Standard Class | F78: SD-20485 | G78: Shirley Daniels | H78: Home Office | I78: United States | J78: Alexandria | K78: Virginia | L78: 22304 | M78: South | N78: =_xlfn.XLOOKUP($M:$M,People!$B:$B,People!A:A) -> Fred Suzuki | O78: TEC-PH-10004833 | P78: =VLOOKUP(O78,Products!$A:$E,3,FALSE) -> 3M | Q78: =INDEX(Products!$E:$E,MATCH(O78,Products!$A:$A,0)) -> 0.36 | R78: Technology | S78: Phones | T78: Macally Suction Cup Mount | U78: 155.35 | V78: 13 | W78: 0 | X78: 0
A79: 78 | B79: US-2023-117163 | C79: 44953 | D79: 44959 | E79: Standard Class | F79: EJ-13720 | G79: Ed Jacobs | H79: Consumer | I79: United States | J79: San Diego | K79: California | L79: 92037 | M79: West | N79: =_xlfn.XLOOKUP($M:$M,People!$B:$B,People!A:A) -> Sadie Pawthorne | O79: FUR-TA-10003469 | P79: =VLOOKUP(O79,Products!$A:$E,3,FALSE) -> Avery | Q79: =INDEX(Products!$E:$E,MATCH(O79,Products!$A:$A,0)) -> 0.37 | R79: Furniture | S79: Tables | T79: Balt Split Level Computer Training Table | U79: 333 | V79: 3 | W79: 0.2 | X79: -16.65
... A180: 179 | B180: US-2023-114790 | C180: 44996 | D180: 44998 | E180: Second Class | F180: FM-14215 | G180: Filia McAdams | H180: Corporate | I180: United States | J180: Richmond | K180: Kentucky | L180: 40475 | M180: South | N180: =_xlfn.XLOOKUP($M:$M,People!$B:$B,People!A:A) -> Fred Suzuki | O180: TEC-PH-10000984 | P180: =VLOOKUP(O180,Products!$A:$E,3,FALSE) -> Logitech | Q180: =INDEX(Products!$E:$E,MATCH(O180,Products!$A:$A,0)) -> 0.29 | R180: Technology | S180: Phones | T180: Panasonic KX-TG9471B | U180: 587.97 | V180: 3 | W180: 0 | X180: 164.6316
A181: 180 | B181: CA-2023-139675 | C181: 44998 | D181: 45003 | E181: Second Class | F181: NF-18595 | G181: Nicole Fjeld | H181: Home Office | I181: Canada | J181: Calgary | K181: Alberta | L181: T2C | M181: West | N181: =_xlfn.XLOOKUP($M:$M,People!$B:$B,People!A:A) -> Sadie Pawthorne | O181: FUR-CH-10004063 | P181: =VLOOKUP(O181,Products!$A:$E,3,FALSE) -> 3M | Q181: =INDEX(Products!$E:$E,MATCH(O181,Products!$A:$A,0)) -> 0.3 | R181: Furniture | S181: Chairs | T181: Global Deluxe High-Back Manager's Chair | U181: 915.14 | V181: 4 | W181: 0.2 | X181: 102.95
A182: 181 | B182: CA-2023-139675 | C182: 44998 | D182: 45003 | E182: Second Class | F182: NF-18595 | G182: Nicole Fjeld | H182: Home Office | I182: Canada | J182: Calgary | K182: Alberta | L182: T2C | M182: West | N182: =_xlfn.XLOOKUP($M:$M,People!$B:$B,People!A:A) -> Sadie Pawthorne | O182: FUR-FU-10001979 | P182: =VLOOKUP(O182,Products!$A:$E,3,FALSE) -> 3M | Q182: =INDEX(Products!$E:$E,MATCH(O182,Products!$A:$A,0)) -> 0.3 | R182: Furniture | S182: Furnishings | T182: Dana Halogen Swing-Arm Architect Lamp | U182: 327.76 | V182: 8 | W182: 0 | X182: 91.77
A183: 182 | B183: US-2023-125521 | C183: 44999 | D183: 45004 | E183: Standard Class | F183: CK-12325 | G183: Christine Kargatis | H183: Home Office | I183: United States | J183: Chesapeake | K183: Virginia | L183: 23320 | M183: South | N183: =_xlfn.XLOOKUP($M:$M,People!$B:$B,People!A:A) -> Fred Suzuki | O183: FUR-CH-10003379 | P183: =VLOOKUP(O183,Products!$A:$E,3,FALSE) -> Avery | Q183: =INDEX(Products!$E:$E,MATCH(O183,Products!$A:$A,0)) -> 0.31 | R183: Furniture | S183: Chairs | T183: Global Commerce Series High-Back Swivel/Tilt Chairs | U183: 1139.92 | V183: 4 | W183: 0 | X183: 284.98
A184: 183 | B184: US-2023-157623 | C184: 44999 | D184: 45003 | E184: Standard Class | F184: DK-13225 | G184: Dean Katz | H184: Corporate | I184: United States | J184: Huntington Beach | K184: California | L184: 92646 | M184: West | N184: =_xlfn.XLOOKUP($M:$M,People!$B:$B,People!A:A) -> Sadie Pawthorne | O184: OFF-AR-10003723 | P184: =VLOOKUP(O184,Products!$A:$E,3,FALSE) -> IKEA | Q184: =INDEX(Products!$E:$E,MATCH(O184,Products!$A:$A,0)) -> 0.32 | R184: Office Supplies | S184: Art | T184: Avery Hi-Liter Fluorescent Desk Style Markers | U184: 3.38 | V184: 1 | W184: 0 | X184: 1.2506
A185: 184 | B185: US-2023-114510 | C185: 44999 | D185: 45004 | E185: Standard Class | F185: JF-15295 | G185: Jason Fortune- | H185: Consumer | I185: United States | J185: Logan | K185: Utah | L185: 84321 | M185: West | N185: =_xlfn.XLOOKUP($M:$M,People!$B:$B,People!A:A) -> Sadie Pawthorne | O185: OFF-BI-10001617 | P185: =VLOOKUP(O185,Products!$A:$E,3,FALSE) -> Logitech | Q185: =INDEX(Products!$E:$E,MATCH(O185,Products!$A:$A,0)) -> 0.25 | R185: Office Supplies | S185: Binders | T185: GBC Wire Binding Combs | U185: 33.088 | V185: 4 | W185: 0.2 | X185: 11.1672
A186: 185 | B186: US-2023-114510 | C186: 44999 | D186: 45004 | E186: Standard Class | F186: JF-15295 | G186: Jason Fortune- | H186: Consumer | I186: United States | J186: Logan | K186: Utah | L186: 84321 | M186: West | N186: =_xlfn.XLOOKUP($M:$M,People!$B:$B,People!A:A) -> Sadie Pawthorne | O186: OFF-BI-10003007 | P186: =VLOOKUP(O186,Products!$A:$E,3,FALSE) -> Samsung | Q186: =INDEX(Products!$E:$E,MATCH(O186,Products!$A:$A,0)) -> 0.33 | R186: Office Supplies | S186: Binders | T186: Premium Transparent Presentation Covers, No Pattern/Clear, 8 1/2" x 11" | U186: 62.048 | V186: 2 | W186: 0.2 | X186: 20.1656
A187: 186 | B187: US-2023-100293 | C187: 44999 | D187: 45003 | E187: Standard Class | F187: NF-18475 | G187: Neil Französisch | H187: Home Office | I187: United States | J187: Jacksonville | K187: Florida | L187: 32216 | M187: South | N187: =_xlfn.XLOOKUP($M:$M,People!$B:$B,People!A:A) -> Fred Suzuki | O187: OFF-PA-10000176 | P187: =VLOOKUP(O187,Products!$A:$E,3,FALSE) -> Dell | Q187: =INDEX(Products!$E:$E,MATCH(O187,Products!$A:$A,0)) -> 0.34 | R187: Office Supplies | S187: Paper | T187: Xerox 1887 | U187: 91.056 | V187: 6 | W187: 0.2 | X187: 31.8696
A188: 187 | B188: US-2023-157623 | C188: 44999 | D188: 45003 | E188: Standard Class | F188: DK-13225 | G188: Dean Katz | H188: Corporate | I188: United States | J188: Huntington Beach | K188: California | L188: 92646 | M188: West | N188: =_xlfn.XLOOKUP($M:$M,People!$B:$B,People!A:A) -> Sadie Pawthorne | O188: OFF-PA-10001204 | P188: =VLOOKUP(O188,Products!$A:$E,3,FALSE) -> Staples | Q188: =INDEX(Products!$E:$E,MATCH(O188,Products!$A:$A,0)) -> 0.25 | R188: Office Supplies | S188: Paper | T188: Xerox 1972 | U188: 10.56 | V188: 2 | W188: 0 | X188: 4.752
...

Sheet Hesablanan Sahələr(IF,IFS və s)
A1: Sumifs | B1: Countifs | C1: IF | D1: Nested If | E1: IFS
A2: =SUMIFS(Orders!U:U,Orders!J:J,Orders!J2,Orders!T:T,Orders!T13) -> 25.92 | B2: =COUNTIFS(Orders!K:K,Orders!K16) -> 985 | C2: =IF(Orders!U2>500,"Yüksək Satış","Aşağı Satış") -> Aşağı Satış | D2: =IF(Orders!U2>500,IF(Orders!E2="First Class",IF(Orders!W2=0,"VIP","Special"),"Formal"),"Normal") -> Normal | E2: {=_xlfn.IFS(Orders!W2=0,"Endirim Yoxdur",SUMIFS(Orders!$V:$V,Orders!$T:$T,Orders!T2)>10,ROUND(Orders!W2*1.15,2),SUMIFS(Orders!$V:$V,Orders!$T:$T,Orders!T2)<=10,"Endirim Yoxdur")} -> 0.23
C3: =IF(Orders!U3>500,"Yüksək Satış","Aşağı Satış") -> Aşağı Satış | D3: =IF(Orders!U3>500,IF(Orders!E3="First Class",IF(Orders!W3=0,"VIP","Special"),"Formal"),"Normal") -> Normal | E3: {=_xlfn.IFS(Orders!W3=0,"Endirim Yoxdur",SUMIFS(Orders!$V:$V,Orders!$T:$T,Orders!T3)>10,ROUND(Orders!W3*1.15,2),SUMIFS(Orders!$V:$V,Orders!$T:$T,Orders!T3)<=10,"Endirim Yoxdur")} -> 0.92
C4: =IF(Orders!U4>500,"Yüksək Satış","Aşağı Satış") -> Aşağı Satış | D4: =IF(Orders!U4>500,IF(Orders!E4="First Class",IF(Orders!W4=0,"VIP","Special"),"Formal"),"Normal") -> Normal | E4: {=_xlfn.IFS(Orders!W4=0,"Endirim Yoxdur",SUMIFS(Orders!$V:$V,Orders!$T:$T,Orders!T4)>10,ROUND(Orders!W4*1.15,2),SUMIFS(Orders!$V:$V,Orders!$T:$T,Orders!T4)<=10,"Endirim Yoxdur")} -> 0.23
C5: =IF(Orders!U5>500,"Yüksək Satış","Aşağı Satış") -> Aşağı Satış | D5: =IF(Orders!U5>500,IF(Orders!E5="First Class",IF(Orders!W5=0,"VIP","Special"),"Formal"),"Normal") -> Normal | E5: {=_xlfn.IFS(Orders!W5=0,"Endirim Yoxdur",SUMIFS(Orders!$V:$V,Orders!$T:$T,Orders!T5)>10,ROUND(Orders!W5*1.15,2),SUMIFS(Orders!$V:$V,Orders!$T:$T,Orders!T5)<=10,"Endirim Yoxdur")} -> 0.23
C6: =IF(Orders!U6>500,"Yüksək Satış","Aşağı Satış") -> Aşağı Satış | D6: =IF(Orders!U6>500,IF(Orders!E6="First Class",IF(Orders!W6=0,"VIP","Special"),"Formal"),"Normal") -> Normal | E6: {=_xlfn.IFS(Orders!W6=0,"Endirim Yoxdur",SUMIFS(Orders!$V:$V,Orders!$T:$T,Orders!T6)>10,ROUND(Orders!W6*1.15,2),SUMIFS(Orders!$V:$V,Orders!$T:$T,Orders!T6)<=10,"Endirim Yoxdur")} -> 0.23
C7: =IF(Orders!U7>500,"Yüksək Satış","Aşağı Satış") -> Yüksək Satış | D7: =IF(Orders!U7>500,IF(Orders!E7="First Class",IF(Orders!W7=0,"VIP","Special"),"Formal"),"Normal") -> Formal | E7: {=_xlfn.IFS(Orders!W7=0,"Endirim Yoxdur",SUMIFS(Orders!$V:$V,Orders!$T:$T,Orders!T7)>10,ROUND(Orders!W7*1.15,2),SUMIFS(Orders!$V:$V,Orders!$T:$T,Orders!T7)<=10,"Endirim Yoxdur")} -> Endirim Yoxdur
C8: =IF(Orders!U8>500,"Yüksək Satış","Aşağı Satış") -> Aşağı Satış | D8: =IF(Orders!U8>500,IF(Orders!E8="First Class",IF(Orders!W8=0,"VIP","Special"),"Formal"),"Normal") -> Normal | E8: {=_xlfn.IFS(Orders!W8=0,"Endirim Yoxdur",SUMIFS(Orders!$V:$V,Orders!$T:$T,Orders!T8)>10,ROUND(Orders!W8*1.15,2),SUMIFS(Orders!$V:$V,Orders!$T:$T,Orders!T8)<=10,"Endirim Yoxdur")} -> Endirim Yoxdur
C9: =IF(Orders!U9>500,"Yüksək Satış","Aşağı Satış") -> Aşağı Satış | D9: =IF(Orders!U9>500,IF(Orders!E9="First Class",IF(Orders!W9=0,"VIP","Special"),"Formal"),"Normal") -> Normal | E9: {=_xlfn.IFS(Orders!W9=0,"Endirim Yoxdur",SUMIFS(Orders!$V:$V,Orders!$T:$T,Orders!T9)>10,ROUND(Orders!W9*1.15,2),SUMIFS(Orders!$V:$V,Orders!$T:$T,Orders!T9)<=10,"Endirim Yoxdur")} -> Endirim Yoxdur
C10: =IF(Orders!U10>500,"Yüksək Satış","Aşağı Satış") -> Yüksək Satış | D10: =IF(Orders!U10>500,IF(Orders!E10="First Class",IF(Orders!W10=0,"VIP","Special"),"Formal"),"Normal") -> Formal | E10: {=_xlfn.IFS(Orders!W10=0,"Endirim Yoxdur",SUMIFS(Orders!$V:$V,Orders!$T:$T,Orders!T10)>10,ROUND(Orders!W10*1.15,2),SUMIFS(Orders!$V:$V,Orders!$T:$T,Orders!T10)<=10,"Endirim Yoxdur")} -> Endirim Yoxdur
C11: =IF(Orders!U11>500,"Yüksək Satış","Aşağı Satış") -> Aşağı Satış | D11: =IF(Orders!U11>500,IF(Orders!E11="First Class",IF(Orders!W11=0,"VIP","Special"),"Formal"),"Normal") -> Normal | E11: {=_xlfn.IFS(Orders!W11=0,"Endirim Yoxdur",SUMIFS(Orders!$V:$V,Orders!$T:$T,Orders!T11)>10,ROUND(Orders!W11*1.15,2),SUMIFS(Orders!$V:$V,Orders!$T:$T,Orders!T11)<=10,"Endirim Yoxdur")} -> Endirim Yoxdur
C12: =IF(Orders!U12>500,"Yüksək Satış","Aşağı Satış") -> Aşağı Satış | D12: =IF(Orders!U12>500,IF(Orders!E12="First Class",IF(Orders!W12=0,"VIP","Special"),"Formal"),"Normal") -> Normal | E12: {=_xlfn.IFS(Orders!W12=0,"Endirim Yoxdur",SUMIFS(Orders!$V:$V,Orders!$T:$T,Orders!T12)>10,ROUND(Orders!W12*1.15,2),SUMIFS(Orders!$V:$V,Orders!$T:$T,Orders!T12)<=10,"Endirim Yoxdur")} -> Endirim Yoxdur
C13: =IF(Orders!U13>500,"Yüksək Satış","Aşağı Satış") -> Aşağı Satış | D13: =IF(Orders!U13>500,IF(Orders!E13="First Class",IF(Orders!W13=0,"VIP","Special"),"Formal"),"Normal") -> Normal | E13: {=_xlfn.IFS(Orders!W13=0,"Endirim Yoxdur",SUMIFS(Orders!$V:$V,Orders!$T:$T,Orders!T13)>10,ROUND(Orders!W13*1.15,2),SUMIFS(Orders!$V:$V,Orders!$T:$T,Orders!T13)<=10,"Endirim Yoxdur")} -> Endirim Yoxdur
C14: =IF(Orders!U14>500,"Yüksək Satış","Aşağı Satış") -> Yüksək Satış | D14: =IF(Orders!U14>500,IF(Orders!E14="First Class",IF(Orders!W14=0,"VIP","Special"),"Formal"),"Normal") -> Formal | E14: {=_xlfn.IFS(Orders!W14=0,"Endirim Yoxdur",SUMIFS(Orders!$V:$V,Orders!$T:$T,Orders!T14)>10,ROUND(Orders!W14*1.15,2),SUMIFS(Orders!$V:$V,Orders!$T:$T,Orders!T14)<=10,"Endirim Yoxdur")} -> Endirim Yoxdur
... C10203: =IF(Orders!U10203>500,"Yüksək Satış","Aşağı Satış") -> Aşağı Satış | D10203: =IF(Orders!U10203>500,IF(Orders!E10203="First Class",IF(Orders!W10203=0,"VIP","Special"),"Formal"),"Normal") -> Normal | E10203: {=_xlfn.IFS(Orders!W10203=0,"Endirim Yoxdur",SUMIFS(Orders!$V:$V,Orders!$T:$T,Orders!T10203)>10,ROUND(Orders!W10203*1.15,2),SUMIFS(Orders!$V:$V,Orders!$T:$T,Orders!T10203)<=10,"Endirim Yoxdur")} -> 0.23

Sheet People
A1: Regional Manager | B1: Region
A2: Sadie Pawthorne | B2: West
A3: Chuck Magee | B3: East
A4: Roxanne Rodriguez | B4: Central
A5: Fred Suzuki | B5: South

Sheet Products
A1: Product ID | B1: Product Name | C1: Supplier | D1: Unit Cost | E1: Target Margin
A2: OFF-PA-10000174 | B2: Message Book, Wirebound, Four 5 1/2" X 4" Forms/Pg., 200 Dupl. Sets/Book | C2: Staples | D2: 7.5 | E2: 0.25
A3: OFF-BI-10004094 | B3: GBC Standard Plastic Binding Systems Combs | C3: Office Depot | D3: 15 | E3: 0.26
A4: OFF-LA-10003223 | B4: Avery 508 | C4: HP | D4: 22.5 | E4: 0.27
A5: OFF-ST-10002743 | B5: SAFCO Boltless Steel Shelving | C5: Canon | D5: 30 | E5: 0.28
A6: OFF-AR-10003478 | B6: Avery Hi-Liter EverBold Pen Style Fluorescent Highlighters, 4/Pack | C6: Logitech | D6: 37.5 | E6: 0.29
A7: FUR-CH-10004063 | B7: Global Deluxe High-Back Manager's Chair | C7: 3M | D7: 45 | E7: 0.3
A8: OFF-AR-10001662 | B8: Rogers Handheld Barrel Pencil Sharpener | C8: Avery | D8: 52.5 | E8: 0.31
A9: OFF-AR-10002399 | B9: Dixon Prang Watercolor Pencils, 10-Color Set with Brush | C9: IKEA | D9: 60 | E9: 0.32
A10: OFF-BI-10004632 | B10: Ibico Hi-Tech Manual Binding System | C10: Samsung | D10: 67.5 | E10: 0.33
A11: OFF-FA-10001883 | B11: Alliance Super-Size Bands, Assorted Sizes | C11: Dell | D11: 75 | E11: 0.34
A12: OFF-PA-10000955 | B12: Southworth 25% Cotton Granite Paper & Envelopes | C12: Staples | D12: 82.5 | E12: 0.35
A13: OFF-PA-10002005 | B13: Xerox 225 | C13: Office Depot | D13: 90 | E13: 0.36
... A1863: FUR-BO-10002206 | B1863: Bush Saratoga Collection 5-Shelf Bookcase, Hanover Cherry, *Special Order | C1863: Office Depot | D1863: 15 | E1863: 0.3

Sheet Returns
A1: Order ID | B1: Returned
A2: US-2023-100762 | B2: Yes
A3: US-2023-100867 | B3: Yes
A4: US-2023-102652 | B4: Yes
A5: US-2023-103373 | B5: Yes
A6: US-2023-103744 | B6: Yes
A7: US-2023-103940 | B7: Yes
A8: US-2023-104829 | B8: Yes
A9: US-2023-105270 | B9: Yes
A10: US-2023-108609 | B10: Yes
A11: US-2023-108861 | B11: Yes
A12: US-2023-109918 | B12: Yes
... A297: US-2026-155999 | B297: Yes
